BEGIN:VCALENDAR
VERSION:2.0
PRODID:-//九条の会奈良県ネットワーク - ECPv6.15.17//NONSGML v1.0//EN
CALSCALE:GREGORIAN
METHOD:PUBLISH
X-WR-CALNAME:九条の会奈良県ネットワーク
X-ORIGINAL-URL:https://wp.nara9jyonet.com
X-WR-CALDESC:九条の会奈良県ネットワーク のイベント
REFRESH-INTERVAL;VALUE=DURATION:PT1H
X-Robots-Tag:noindex
X-PUBLISHED-TTL:PT1H
BEGIN:VTIMEZONE
TZID:Asia/Tokyo
BEGIN:STANDARD
TZOFFSETFROM:+0900
TZOFFSETTO:+0900
TZNAME:JST
DTSTART:20250101T000000
END:STANDARD
END:VTIMEZONE
BEGIN:VEVENT
DTSTART;TZID=Asia/Tokyo:20260506T133000
DTEND;TZID=Asia/Tokyo:20260506T170000
DTSTAMP:20260426T001941
CREATED:20260227T153738Z
LAST-MODIFIED:20260304T071720Z
UID:70-1778074200-1778086800@wp.nara9jyonet.com
SUMMARY:けんぽうの日2026
DESCRIPTION:川口真由美＆Pubライブセッション\nせやろがいおじさんトークライブ
URL:https://wp.nara9jyonet.com/event/%e3%81%91%e3%82%93%e3%81%bd%e3%81%86%e3%81%ae%e6%97%a52026/
LOCATION:なら100年会館大ホール\, 奈良市三条宮前町7-1
CATEGORIES:九条の会
ATTACH;FMTTYPE=image/jpeg:https://wp.nara9jyonet.com/wp-content/uploads/2026/02/20260209けんぽうの日2026チラシ-scaled-e1772608619333.jpg
ORGANIZER;CN="%E6%86%B2%E6%B3%95%E3%81%AE%E6%97%A5%E5%AE%9F%E8%A1%8C%E5%A7%94%E5%93%A1%E4%BC%9A":MAILTO:nara9jyonokai@gmail.com
END:VEVENT
END:VCALENDAR